BEGIN:VCALENDAR
VERSION:2.0
PRODID:icalendar-ruby
CALSCALE:GREGORIAN
X-WR-TIMEZONE:Europe/Helsinki
BEGIN:VTIMEZONE
TZID:Europe/Helsinki
BEGIN:DAYLIGHT
DTSTART:20260329T040000
TZOFFSETFROM:+0200
TZOFFSETTO:+0300
RRULE:FREQ=YEARLY;BYDAY=-1SU;BYMONTH=3
TZNAME:EEST
END:DAYLIGHT
BEGIN:STANDARD
DTSTART:20261025T030000
TZOFFSETFROM:+0300
TZOFFSETTO:+0200
RRULE:FREQ=YEARLY;BYDAY=-1SU;BYMONTH=10
TZNAME:EET
END:STANDARD
END:VTIMEZONE
BEGIN:VEVENT
DTSTAMP:20260420T114636
UID:tkd-akatemia.myclub.fi-8778909
DTSTART;TZID=Europe/Helsinki:20261219T090000
DTEND;TZID=Europe/Helsinki:20261219T160000
DESCRIPTION:VYÖKOE \nMustan vyön kokeet 1. - 6. Dan  AIKA \nLauantaina 19
 .12.2026\, ilmoittautuminen klo 9.30. Koe alkaa klo 10.00 –>  PAIKKA \n
 Äimäkujan sali (Äimäkuja 6\, 90400 Oulu)  ARVOSTELIJA \nMestari Mikko 
 Allinniemi 8. Dan\n ENNAKKOILMOITTAUTUMINEN   4.12.2026 mennessä: mikko.a
 llinniemi(a)tkd-akatemia.fi tai mikko.allinniemi(a)gmail.com.  Ilmoittaudu
  myös Taekwon-Do Akatemialle joko myClubissa (Taekwon-Do Akatemian jäsen
 et) tai SITF:n TKDMAN-ilmoittautumisjärjestelmässä (muiden seurojen jä
 senet) niin ikään 4.12.2026 mennessä. Vyökoemaksut laskutetaan seuroil
 ta vyökokeen jälkeen.  \n\nMestari Allinniemelle toimitettavaan ilmoitta
 utumiseen on liitettävä seuraavat tiedot:\nNIMI: SYNTYMÄAIKA: SEURA: OS
 OITE: SÄHKÖPOSTIOSOITE: PUHELINNUMERO: NYKYINEN VYÖARVO: FL-TUNNUS (Kos
 kee nykyisiä vyöarvoja 1.-5. Dan): TAEKWON-DON ALOITUSVUOSI: EDELLISEN V
 YÖKOKEEN PÄIVÄMÄÄRÄ: HARJOITTELUAKTIIVISUUS: OPETTAJAKOKEMUS: HARJOI
 TTELUPAIKKAKUNTA: OMAN OPETTAJAN NIMI: SÄHKÖINEN PASSIKUVA: (gif/jpg–m
 uodossa)\nNäiden lisäksi kokelaan on myös varmistettava oman henkilöko
 htaisen opettajansa suostumus kokeeseen osallistumisesta.  ILMOITTAUTUMISL
 OMAKE \nDan-kokeeseen tarvittavat vyökoekaavakkeet löytyvät lajiliiton 
 sivuilta kohdasta Lomakkeet (Individual Black Belt Degree Application Form
 ): https://www.taekwon-do.fi/liitto/lomakkeet/\nHUOM: Lomakkeet palautetaa
 n vyökoetilaisuuden alussa HUOLELLISESTI(!) täytettynä ja kahtena kappa
 leena. Muista pyytää myös oman valmentajasi allekirjoitukset! Mukaan on
  liitettävä myös kaksi irrallista passikuvaa (joiden taakse kirjoitetaa
 n kokelaan nimi). Kolmas kuva toimitetaan siis sähköisessä muodossa (jp
 g) ilmoittautumisen yhteydessä vyökokeen vetäjälle: mikko.allinniemi(a
 )tkd-akatemia.fi\nSÄHKÖINEN KUVA TOIMITETAAN SIIS JO ENNEN KOETTA!  LIIT
 ON LISENSSI JA SEURAN JÄSENYYS \nVyökoekokelaiden lisenssit (Suomen ITF 
 Taekwon-Do ry) sekä oman seuran jäsenmaksut tulee olla maksettuna ennen 
 vyökokeeseen osallistumista ja ne tarkistetaan kaikilta kokelailta (myös
  aikaisemmilta vuosilta valmistautumisajalta).\nKokelaalla pitää olla vo
 imassa oleva ja Taekwon-Doon sopiva vakuutus\, joka kattaa myös vyökokee
 n.  MAKSUTAPA JA HINNAT \nTaekwon-Do Akatemia laskuttaa vyökoemaksut ilmo
 ittautumisteen perusteella. Taekwon-Do Akatemian jäsenille toimitetaan la
 skut myClubin kautta. Muilta seuroilta maksut laskutetaan seuroittain.\nKo
 konaishinta Dan-arvojen mukaisesti (2025):\nI Dan = 180 € 110 € (ITF-s
 ertifikaattimaksu) + 50 € (vyökoemaksu) + 20 € (TKD-Akatemian järjes
 telymaksu)\nII Dan = 220 € 150 € (ITF-sertifikaattimaksu) + 50 € (vy
 ökoemaksu) + 20 € (TKD-Akatemian järjestelymaksu)\nIII Dan = 265 € 1
 95 € (ITF-sertifikaattimaksu) + 50 € (vyökoemaksu) + 20 € (TKD-Akat
 emian järjestelymaksu)\nIV Dan = 390 € 270 € (ITF-sertifikaattimaksu)
  + 100 € (vyökoemaksu) + 20 € (TKD-Akatemian järjestelymaksu)\nV Dan
  = 475 € 355 € (ITF-sertifikaattimaksu) + 100 € (vyökoemaksu) + 20 
 € (TKD-Akatemian järjestelymaksu)\nVI Dan = 550 € 430 € (ITF-sertif
 ikaattimaksu) + 100 € (vyökoemaksu) + 20 € (TKD-Akatemian järjestely
 maksu)\nHinnat sisältävät järjestelykulut\, vyökokeen sekä vyökoeto
 distukset. Läpäistyn Dan-kokeen sekä oikein täytettyjen lomakkeiden pe
 rusteella vyökoetodistukset saapuvat yleensä noin 1-6 kk:n kuluessa Suom
 een ja jaetaan seuraavissa valtakunnallisessa kilpailu-\, leiri- ym. tapah
 tumissa (esim. SM-kilpailuissa).\nHylätyn Dan-kokeen sertifikaattimaksua 
 ei peritä\, mutta vyökoemaksu ja järjestelymaksu peritään.  MUUT SEUR
 AT \nJos kokeeseen on tulijoita muista Suomen ITF Taekwon-Do seuroista kui
 n niistä\, joiden päävalmentajana mestari Allinniemi toimii\, pitää a
 sianomaisella olla oman henkilökohtaisen pääopettajan hyväksyntä koke
 eseen osallistumisesta. Tämän lisäksi asiasta tulee tiedottaa Suomen IT
 F Taekwon-Don opettajajaoksen vastaavaa.  MURSKAUSLAUDAT \nVyökokeessa on
  tarjolla erilaisia muovisia murskauslautoja\, mutta jos kokelas haluaa h
 än voi tuoda mukanaan myös puulautoja. Taekwon-Do Akatemian hankkimia pu
 ulautoja voi käyttää hintaan 5 €/kpl. Pyydämme ilmoittamaan toiveest
 a käyttää lautoja TKDMAN-ilmoittautumisen yhteydessä (Taekwon-Do Akate
 mian jäsenet myClubin ilmoittautumisen yhteydessä).  VALOKUVAUS JA VIDEO
 INTI \nKokeen aikana ei saa kuvata kuin erikoisluvalla. Järjestävä seur
 a ottaa muutamia kuvia kokeen aikana ja tarvittaessa kokeen jälkeen oteta
 an sitä haluaville yhteiskuva.  LISÄTIETOJA \nLisätietoja vyökokeesta 
 ja sen muista järjestelyistä antaa Mikko Allinniemi: 040-5341010. Seuran
  asioihin tai maksuihin liittyviä kysymyksiä voi esittää järjestävä
 n seuran puheenjohtajalle Satu Kokolle\, satu.kokko@tkd-akatemia.fi.\nDAN-
 KOE ON SULJETTU KUTSUTILAISUUS\, EIKÄ SE OLE AVOIN YLEISÖLLE.  LISÄOHJE
 ET VYÖARVOJA 4. - 6. DAN HAKEVILLE \n(voimassa 23.7.2017 alkaen)\nLisäks
 i opettaja-arvoja 4.-6. Dan hakevien tulee toimittaa seuraavat dokumentit:
   Taekwon-Do CV  Taekwon-Do-tutkielma  Suosituskirje  \nDokumenttien tulee
  olla perillä kokeen graduoijalla vähintään viikkoa ennen koetta sähk
 öpostitse\, postitse tai käteen annettuna.\nTaekwon-Do CV Kirjoita lyhyt
  historia itsestäsi ja omasta Taekwon-Do-polustasi. CV:n tulee olla lyhyt
  tiivistelmä\, mutta olisi hyvä jos se sisältäisi mahdollisimman katta
 vasti kaikki Taekwon-Do-urasi osa-alueet. Tässä yhteydessä myös tehty 
 tuomari- ja opetustoiminta vaaditaan mukaan.\nTaekwon-Do-tutkielma Tee lyh
 yt kirjoitus\, essee\, tutkimusraportti tai tutkielma (thesis) jostakin Ta
 ekwon-Doon liittyvästä aiheesta. Tämän tutkielman tarkoituksena on oso
 ittaa kykyäsi tuottaa ja luoda omaa panostasi Taekwon-Don jatkuvaan kehit
 ystyöhön. Samalla tavoitteena on luoda ITF:lle\, liitolle\, omalle nykyi
 selle tai uudelle tulevalle seuralle hyödyllinen tutkielma tai dokumentti
 . Aihepiiri on varsin vapaa se voi sisältää\; Taekwon-Don tekniikkaan\,
  teoriaan tai opettamiseen liittyviä asioita. Tutkielma voi käsitellä m
 yös itsepuolustusta\, harjoittelua\, kilpailemista\, valmentamista\, kilp
 ailuiden tai tapahtumien järjestämistä\, Taekwon-Don sääntöjä jne. 
 Eli melkeinpä mitä vain\, kunhan siinä on joku linkki Taekwon-Doon niin
 \, että tekemästäsi työstä voisi olla hyötyä Taekwon-Do seuroille\,
  opettajille tai harrastajille. Kyseinen teksti tulee olla vähintään ne
 ljä (4) sivua pitkä.\nSuosituskirje Pyydä itsellesi lyhyt suosituskirje
  joltakin sinut tuntevalta henkilöltä. Kirjeen tulee kuitenkin olla ITF 
 Taekwon-Do yhteisön sisältä\; omalta seuralta tai liitolta. Ideana on\,
  että omien pyrkimyksiesi takana on myös tärkeä linkki yhteisöön\, h
 enkilö joka luottaa ja uskoo sinuun sekä takaa sinut\, arvosi ja tavoitt
 eesi.\n\nhttps://tkd-akatemia.myclub.fi/flow/events/8778909
LOCATION:Äimäkujan sali\, Äimäkuja 6\, 90400 Oulu\, Suomi
SEQUENCE:0
SUMMARY:Taekwon-Do Akatemia: Mustan vyön kokeet\, syksy 2026 (1.-6. Dan)
URL;VALUE=URI:https://tkd-akatemia.myclub.fi/flow/events/8778909
END:VEVENT
END:VCALENDAR
